BEGIN:VCALENDAR
VERSION:2.0
PRODID:-//ChamberMaster//Event Calendar 2.0//EN
METHOD:PUBLISH
X-PUBLISHED-TTL:P3D
REFRESH-INTERVAL:P3D
CALSCALE:GREGORIAN
BEGIN:VEVENT
DTSTART:20260528T150000Z
DTEND:20260528T163000Z
X-MICROSOFT-CDO-ALLDAYEVENT:FALSE
SUMMARY:Awards Submissions 101
DESCRIPTION:Nominations for the 2027 Halifax Business Awards are open!\n\n Have you been nominated?  \n\n\nRBC and the Halifax Chamber of Commerce invite you to join us at Submissions 101!  A complimentary workshop to help you with your submission application. \n\nJoin us for this 1.5hr workshop over lunch to help you identify the best approach to completing your submission. Get advice from the professionals\, meet the Halifax Chamber team and get started on your submission so you can wow the judges. \n\n \n\nPlease note that due to space limitations we can only permit two reps per company to attend this session. We want to include as many companies as possible for this opportunity!\n\n\n	Gain insights from one of the Judges on the Halifax Business Awards Judging Committee\,\n	Hear from a past winner on their tips for success\, and\n	Learn from facilitators \n\n\n \n \n\n\n \n\n***Facilitators to be announced***
X-ALT-DESC;FMTTYPE=text/html:<div style="text-align: center\;">&nbsp\;</div>\n\n<div style="text-align: center\;"><strong style="font-size: 22px\; text-align: center\;">Nominations for the&nbsp\;2027&nbsp\;Halifax Business Awards are open!<br />\n<a href="https://halifaxcc.awardify.io"><em>&#8203\;</em></a><em>Have you been nominated? &nbsp\;</em></strong></div>\n<br />\n<span style="font-size:14px\;"><strong>RBC and the Halifax Chamber of Commerce invite you to join us at Submissions 101!&nbsp\; A complimentary workshop to help you with your submission application.&nbsp\;</strong><br />\nJoin us for this 1.5hr workshop over lunch to help you identify the best approach to completing your submission. Get advice from the professionals\, meet the Halifax Chamber team and get started on your submission so you can wow the judges.&nbsp\;<br />\n&nbsp\;<br />\nPlease note that due to space limitations we can only permit two reps per company to attend this session. We want to include as many companies as possible for this opportunity!</span>\n\n<ul>\n	<li><span style="font-size:14px\;">Gain&nbsp\;insights from one of the Judges on the&nbsp\;Halifax Business Awards Judging Committee\,</span></li>\n	<li><span style="font-size:14px\;">Hear from a past winner on their tips for success\, and</span></li>\n	<li><span style="font-size:14px\;">Learn from facilitators&nbsp\;</span></li>\n</ul>\n\n<div -webkit-user-drag:="" caret-color:="" class="OutlineElement Ltr SCXW57062883 BCX4" clear:="" color:="" cursor:="" direction:="" font-size:="" margin:="" overflow:="" padding:="" position:="" segoe="" style="font-family: sans-serif\, Arial\, Verdana\, " trebuchet="" ui="" user-select:="">&nbsp\;</div>\n&nbsp\;\n\n<div -webkit-user-drag:="" caret-color:="" class="OutlineElement Ltr SCXW57062883 BCX4" clear:="" color:="" cursor:="" direction:="" font-size:="" margin:="" overflow:="" padding:="" position:="" segoe="" style="font-family: sans-serif\, Arial\, Verdana\, " trebuchet="" ui="" user-select:="">\n<div paraeid="{89c62369-c414-49cb-b7d3-0f0786f2df1e}{229}" paraid="1730831961">&nbsp\;</div>\n\n<div style="text-align: center\;"><span style="font-size:14px\;"><em><strong>***Facilitators to be announced***&nbsp\;</strong></em></span></div>\n</div>\n
LOCATION:RBC Centre - Dartmouth
UID:e.2481.4416
SEQUENCE:3
DTSTAMP:20260423T055733Z
URL:http://business.halifaxchamber.com/events/details/awards-submissions-101-4416
END:VEVENT

END:VCALENDAR
